Package: SCLCBam Version: 1.43.0 Command: /home/biocbuild/bbs-3.23-bioc/R/bin/R CMD INSTALL SCLCBam StartedAt: 2025-11-06 10:55:15 -0500 (Thu, 06 Nov 2025) EndedAt: 2025-11-06 10:55:17 -0500 (Thu, 06 Nov 2025) EllapsedTime: 2.2 seconds RetCode: 0 Status: OK