Package: SCLCBam Version: 1.43.0 Maintainer: Oscar Krijgsman MaintainerEmail: o.krijgsman at nki.nl git_url: https://git.bioconductor.org/packages/SCLCBam git_branch: devel git_last_commit: 538ae18 git_last_commit_date: 2025-10-29 09:56:27 -0500 (Wed, 29 Oct 2025)