Package: RnBeads.rn5 Version: 1.43.0 Command: /home/biocbuild/bbs-3.23-bioc/R/bin/R CMD INSTALL RnBeads.rn5 StartedAt: 2025-11-06 10:58:05 -0500 (Thu, 06 Nov 2025) EndedAt: 2025-11-06 10:58:12 -0500 (Thu, 06 Nov 2025) EllapsedTime: 7.5 seconds RetCode: 0 Status: OK