Package: RnBeads.rn5 Version: 1.43.0 Command: /home/biocbuild/bbs-3.23-bioc/R/bin/R CMD build --keep-empty-dirs --no-resave-data RnBeads.rn5 StartedAt: 2025-11-06 11:38:49 -0500 (Thu, 06 Nov 2025) EndedAt: 2025-11-06 11:38:56 -0500 (Thu, 06 Nov 2025) EllapsedTime: 7.1 seconds RetCode: 0 Status: OK PackageFile: RnBeads.rn5_1.43.0.tar.gz PackageFileSize: 106.8 MiB