Package: RnBeads.mm9 Version: 1.43.0 Maintainer: RnBeadsAnnotationCreator MaintainerEmail: rnbeads at mpi-inf.mpg.de git_url: https://git.bioconductor.org/packages/RnBeads.mm9 git_branch: devel git_last_commit: 1bef9ef git_last_commit_date: 2025-10-29 09:56:34 -0500 (Wed, 29 Oct 2025)