Package: RnBeads.mm10 Version: 2.19.0 Maintainer: RnBeads Team MaintainerEmail: team at rnbeads.org git_url: https://git.bioconductor.org/packages/RnBeads.mm10 git_branch: devel git_last_commit: bb99da6 git_last_commit_date: 2025-10-29 09:56:32 -0500 (Wed, 29 Oct 2025)