Package: RnBeads.hg38 Version: 1.43.0 Command: /home/biocbuild/bbs-3.23-bioc/R/bin/R CMD build --keep-empty-dirs --no-resave-data RnBeads.hg38 StartedAt: 2025-11-06 11:38:39 -0500 (Thu, 06 Nov 2025) EndedAt: 2025-11-06 11:39:32 -0500 (Thu, 06 Nov 2025) EllapsedTime: 53.1 seconds RetCode: 0 Status: OK PackageFile: RnBeads.hg38_1.43.0.tar.gz PackageFileSize: 172 MiB