Package: RnBeads.hg38 Version: 1.43.0 Maintainer: RnBeads Team MaintainerEmail: team at rnbeads.org git_url: https://git.bioconductor.org/packages/RnBeads.hg38 git_branch: devel git_last_commit: 117983c git_last_commit_date: 2025-10-29 09:56:48 -0500 (Wed, 29 Oct 2025)