Package: RforProteomics Version: 1.49.0 Command: /home/biocbuild/bbs-3.23-bioc/R/bin/R CMD INSTALL RforProteomics StartedAt: 2025-11-06 11:00:19 -0500 (Thu, 06 Nov 2025) EndedAt: 2025-11-06 11:00:55 -0500 (Thu, 06 Nov 2025) EllapsedTime: 36.7 seconds RetCode: 0 Status: OK