Package: RforProteomics Version: 1.49.0 Maintainer: Laurent Gatto MaintainerEmail: laurent.gatto at uclouvain.be git_url: https://git.bioconductor.org/packages/RforProteomics git_branch: devel git_last_commit: bd10592 git_last_commit_date: 2025-10-29 09:33:45 -0500 (Wed, 29 Oct 2025)