Package: RegParallel Version: 1.29.0 Command: /home/biocbuild/bbs-3.23-bioc/R/bin/R CMD check --install=check:RegParallel.install-out.txt --library=/home/biocbuild/bbs-3.23-bioc/R/site-library --timings RegParallel_1.29.0.tar.gz StartedAt: 2025-11-06 12:50:29 -0500 (Thu, 06 Nov 2025) EndedAt: 2025-11-06 12:58:48 -0500 (Thu, 06 Nov 2025) EllapsedTime: 499.5 seconds RetCode: 0 Status: OK CheckDir: RegParallel.Rcheck Warnings: 0