Package: ReactomeGSA.data Version: 1.25.0 Command: /home/biocbuild/bbs-3.23-bioc/R/bin/R CMD check --install=check:ReactomeGSA.data.install-out.txt --library=/home/biocbuild/bbs-3.23-bioc/R/site-library --timings ReactomeGSA.data_1.25.0.tar.gz StartedAt: 2025-11-11 12:50:43 -0500 (Tue, 11 Nov 2025) EndedAt: 2025-11-11 12:51:54 -0500 (Tue, 11 Nov 2025) EllapsedTime: 71.6 seconds RetCode: 0 Status: WARNINGS CheckDir: ReactomeGSA.data.Rcheck Warnings: 3