Package: RcisTarget.hg19.motifDBs.cisbpOnly.500bp Version: 1.31.0 Command: /home/biocbuild/bbs-3.23-bioc/R/bin/R CMD INSTALL RcisTarget.hg19.motifDBs.cisbpOnly.500bp StartedAt: 2025-11-06 10:56:01 -0500 (Thu, 06 Nov 2025) EndedAt: 2025-11-06 10:56:10 -0500 (Thu, 06 Nov 2025) EllapsedTime: 9.8 seconds RetCode: 0 Status: OK