Package: RTCGA.mutations Version: 20151101.41.0 Command: /home/biocbuild/bbs-3.23-bioc/R/bin/R CMD check --install=check:RTCGA.mutations.install-out.txt --library=/home/biocbuild/bbs-3.23-bioc/R/site-library --timings RTCGA.mutations_20151101.41.0.tar.gz StartedAt: 2025-11-06 12:55:58 -0500 (Thu, 06 Nov 2025) EndedAt: 2025-11-06 13:00:00 -0500 (Thu, 06 Nov 2025) EllapsedTime: 241.7 seconds RetCode: 0 Status: WARNINGS CheckDir: RTCGA.mutations.Rcheck Warnings: 1