Package: RTCGA.miRNASeq Version: 1.39.0 Maintainer: Marcin Kosinski MaintainerEmail: m.p.kosinski at gmail.com git_url: https://git.bioconductor.org/packages/RTCGA.miRNASeq git_branch: devel git_last_commit: 355ad51 git_last_commit_date: 2025-10-29 09:57:30 -0500 (Wed, 29 Oct 2025)