Package: RTCGA.CNV Version: 1.39.0 Command: /home/biocbuild/bbs-3.23-bioc/R/bin/R CMD check --install=check:RTCGA.CNV.install-out.txt --library=/home/biocbuild/bbs-3.23-bioc/R/site-library --timings RTCGA.CNV_1.39.0.tar.gz StartedAt: 2025-11-06 12:54:44 -0500 (Thu, 06 Nov 2025) EndedAt: 2025-11-06 12:55:56 -0500 (Thu, 06 Nov 2025) EllapsedTime: 72.6 seconds RetCode: 0 Status: WARNINGS CheckDir: RTCGA.CNV.Rcheck Warnings: 1