Package: RRBSdata Version: 1.31.0 Maintainer: Katja Hebestreit MaintainerEmail: katja.hebestreit at gmail.com git_url: https://git.bioconductor.org/packages/RRBSdata git_branch: devel git_last_commit: 0a02ab6 git_last_commit_date: 2025-10-29 09:55:51 -0500 (Wed, 29 Oct 2025)