Package: RNAseqData.HNRNPC.bam.chr14 Version: 0.49.0 Command: /home/biocbuild/bbs-3.23-bioc/R/bin/R CMD INSTALL RNAseqData.HNRNPC.bam.chr14 StartedAt: 2025-11-06 10:55:45 -0500 (Thu, 06 Nov 2025) EndedAt: 2025-11-06 10:55:49 -0500 (Thu, 06 Nov 2025) EllapsedTime: 4.2 seconds RetCode: 0 Status: OK