Package: RNAseqData.HNRNPC.bam.chr14 Version: 0.49.0 Command: /home/biocbuild/bbs-3.23-bioc/R/bin/R CMD build --keep-empty-dirs --no-resave-data RNAseqData.HNRNPC.bam.chr14 StartedAt: 2025-11-06 11:38:14 -0500 (Thu, 06 Nov 2025) EndedAt: 2025-11-06 11:38:58 -0500 (Thu, 06 Nov 2025) EllapsedTime: 44.6 seconds RetCode: 0 Status: OK PackageFile: RNAseqData.HNRNPC.bam.chr14_0.49.0.tar.gz PackageFileSize: 332.5 MiB