Package: RNAmodR.Data Version: 1.25.0 Command: /home/biocbuild/bbs-3.23-bioc/R/bin/R CMD INSTALL RNAmodR.Data StartedAt: 2025-11-06 11:03:21 -0500 (Thu, 06 Nov 2025) EndedAt: 2025-11-06 11:04:00 -0500 (Thu, 06 Nov 2025) EllapsedTime: 39.5 seconds RetCode: 0 Status: OK