Package: RNAmodR.Data Version: 1.25.0 Command: /home/biocbuild/bbs-3.23-bioc/R/bin/R CMD build --keep-empty-dirs --no-resave-data RNAmodR.Data StartedAt: 2025-11-06 11:37:50 -0500 (Thu, 06 Nov 2025) EndedAt: 2025-11-06 11:38:48 -0500 (Thu, 06 Nov 2025) EllapsedTime: 58.0 seconds RetCode: 0 Status: OK PackageFile: RNAmodR.Data_1.25.0.tar.gz PackageFileSize: 304.9 KiB