Package: RNAmodR.Data Version: 1.25.0 Maintainer: Felix G.M. Ernst MaintainerEmail: felix.gm.ernst at outlook.com git_url: https://git.bioconductor.org/packages/RNAmodR.Data git_branch: devel git_last_commit: dea0139 git_last_commit_date: 2025-10-29 10:01:40 -0500 (Wed, 29 Oct 2025)