Package: RMassBankData Version: 1.49.0 Maintainer: Michael Stravs, Emma Schymanski MaintainerEmail: massbank at eawag.ch git_url: https://git.bioconductor.org/packages/RMassBankData git_branch: devel git_last_commit: 1ca6e13 git_last_commit_date: 2025-10-29 09:33:24 -0500 (Wed, 29 Oct 2025)