Package: RITANdata Version: 1.35.0 Command: /home/biocbuild/bbs-3.23-bioc/R/bin/R CMD INSTALL RITANdata StartedAt: 2025-11-06 10:55:27 -0500 (Thu, 06 Nov 2025) EndedAt: 2025-11-06 10:56:04 -0500 (Thu, 06 Nov 2025) EllapsedTime: 37.1 seconds RetCode: 0 Status: OK