Package: RITANdata Version: 1.35.0 Maintainer: Michael Zimmermann MaintainerEmail: mtzimmermann at mcw.edu git_url: https://git.bioconductor.org/packages/RITANdata git_branch: devel git_last_commit: b5ac6ab git_last_commit_date: 2025-10-29 10:04:50 -0500 (Wed, 29 Oct 2025)