Package: QUBICdata Version: 1.39.0 Command: /home/biocbuild/bbs-3.23-bioc/R/bin/R CMD INSTALL QUBICdata StartedAt: 2025-11-11 10:57:43 -0500 (Tue, 11 Nov 2025) EndedAt: 2025-11-11 10:57:44 -0500 (Tue, 11 Nov 2025) EllapsedTime: 1.0 seconds RetCode: 0 Status: OK