Package: QUBICdata Version: 1.39.0 Command: /home/biocbuild/bbs-3.23-bioc/R/bin/R CMD build --keep-empty-dirs --no-resave-data QUBICdata StartedAt: 2025-11-11 11:37:26 -0500 (Tue, 11 Nov 2025) EndedAt: 2025-11-11 11:37:32 -0500 (Tue, 11 Nov 2025) EllapsedTime: 6.0 seconds RetCode: 0 Status: OK PackageFile: QUBICdata_1.39.0.tar.gz PackageFileSize: 9.848 MiB