Package: PtH2O2lipids Version: 1.37.0 Command: /home/biocbuild/bbs-3.23-bioc/R/bin/R CMD INSTALL PtH2O2lipids StartedAt: 2025-11-06 11:02:57 -0500 (Thu, 06 Nov 2025) EndedAt: 2025-11-06 11:03:46 -0500 (Thu, 06 Nov 2025) EllapsedTime: 48.7 seconds RetCode: 0 Status: OK