Package: PtH2O2lipids Version: 1.37.0 Command: /home/biocbuild/bbs-3.23-bioc/R/bin/R CMD build --keep-empty-dirs --no-resave-data PtH2O2lipids StartedAt: 2025-11-06 11:36:34 -0500 (Thu, 06 Nov 2025) EndedAt: 2025-11-06 11:36:36 -0500 (Thu, 06 Nov 2025) EllapsedTime: 1.5 seconds RetCode: 0 Status: OK PackageFile: PtH2O2lipids_1.37.0.tar.gz PackageFileSize: 15.48 MiB