Package: PtH2O2lipids Version: 1.37.0 Maintainer: James Collins MaintainerEmail: james.r.collins at aya.yale.edu git_url: https://git.bioconductor.org/packages/PtH2O2lipids git_branch: devel git_last_commit: 2258fc0 git_last_commit_date: 2025-10-29 09:58:52 -0500 (Wed, 29 Oct 2025)