Package: ProteinGymR Version: 1.5.0 Maintainer: Tram Nguyen MaintainerEmail: Tram_Nguyen at hms.harvard.edu git_url: https://git.bioconductor.org/packages/ProteinGymR git_branch: devel git_last_commit: b570da8 git_last_commit_date: 2025-10-29 10:06:45 -0500 (Wed, 29 Oct 2025)