Package: ProData Version: 1.49.0 Command: /home/biocbuild/bbs-3.23-bioc/R/bin/R CMD check --install=check:ProData.install-out.txt --library=/home/biocbuild/bbs-3.23-bioc/R/site-library --timings ProData_1.49.0.tar.gz StartedAt: 2025-11-06 12:47:58 -0500 (Thu, 06 Nov 2025) EndedAt: 2025-11-06 12:48:15 -0500 (Thu, 06 Nov 2025) EllapsedTime: 16.3 seconds RetCode: 0 Status: OK CheckDir: ProData.Rcheck Warnings: 0