Package: PhyloProfileData Version: 1.25.0 Maintainer: Vinh Tran MaintainerEmail: tran at bio.uni-frankfurt.de git_url: https://git.bioconductor.org/packages/PhyloProfileData git_branch: devel git_last_commit: a0cd0b5 git_last_commit_date: 2025-10-29 10:01:54 -0500 (Wed, 29 Oct 2025)