Package: PepsNMRData Version: 1.29.0 Maintainer: Manon Martin MaintainerEmail: manon.martin at uclouvain.be git_url: https://git.bioconductor.org/packages/PepsNMRData git_branch: devel git_last_commit: 0fd124e git_last_commit_date: 2025-10-29 10:00:59 -0500 (Wed, 29 Oct 2025)