Package: PWMEnrich.Mmusculus.background Version: 4.45.0 Maintainer: Diego Diez MaintainerEmail: diego10ruiz at gmail.com git_url: https://git.bioconductor.org/packages/PWMEnrich.Mmusculus.background git_branch: devel git_last_commit: 2cfc905 git_last_commit_date: 2025-10-29 09:54:11 -0500 (Wed, 29 Oct 2025)