Package: PWMEnrich.Hsapiens.background Version: 4.45.0 Command: /home/biocbuild/bbs-3.23-bioc/R/bin/R CMD INSTALL PWMEnrich.Hsapiens.background StartedAt: 2025-11-06 10:57:35 -0500 (Thu, 06 Nov 2025) EndedAt: 2025-11-06 10:57:42 -0500 (Thu, 06 Nov 2025) EllapsedTime: 6.7 seconds RetCode: 0 Status: OK