Package: PWMEnrich.Hsapiens.background Version: 4.45.0 Maintainer: Diego Diez MaintainerEmail: diego10ruiz at gmail.com git_url: https://git.bioconductor.org/packages/PWMEnrich.Hsapiens.background git_branch: devel git_last_commit: af8619b git_last_commit_date: 2025-10-29 09:54:09 -0500 (Wed, 29 Oct 2025)