Package: PCHiCdata Version: 1.39.0 Command: /home/biocbuild/bbs-3.23-bioc/R/bin/R CMD INSTALL PCHiCdata StartedAt: 2025-11-06 10:57:49 -0500 (Thu, 06 Nov 2025) EndedAt: 2025-11-06 10:58:30 -0500 (Thu, 06 Nov 2025) EllapsedTime: 40.9 seconds RetCode: 0 Status: OK