Package: PCHiCdata Version: 1.39.0 Command: /home/biocbuild/bbs-3.23-bioc/R/bin/R CMD build --keep-empty-dirs --no-resave-data PCHiCdata StartedAt: 2025-11-06 11:34:45 -0500 (Thu, 06 Nov 2025) EndedAt: 2025-11-06 11:36:35 -0500 (Thu, 06 Nov 2025) EllapsedTime: 109.9 seconds RetCode: 0 Status: OK PackageFile: PCHiCdata_1.39.0.tar.gz PackageFileSize: 183.3 MiB