Package: PCHiCdata Version: 1.39.0 Maintainer: Mikhail Spivakov MaintainerEmail: mikhail.spivakov at lms.mrc.ac.uk git_url: https://git.bioconductor.org/packages/PCHiCdata git_branch: devel git_last_commit: 32f8cec git_last_commit_date: 2025-10-29 10:04:39 -0500 (Wed, 29 Oct 2025)