Package: ObMiTi Version: 1.19.0 Maintainer: Omar Elashkar MaintainerEmail: omar.i.elashkar at gmail.com git_url: https://git.bioconductor.org/packages/ObMiTi git_branch: devel git_last_commit: 97a959e git_last_commit_date: 2025-10-29 10:03:37 -0500 (Wed, 29 Oct 2025)