Package: OMICsPCAdata Version: 1.29.0 Maintainer: Subhadeep Das MaintainerEmail: subhadeep1024 at gmail.com git_url: https://git.bioconductor.org/packages/OMICsPCAdata git_branch: devel git_last_commit: d48d813 git_last_commit_date: 2025-10-29 10:00:50 -0500 (Wed, 29 Oct 2025)