Package: NxtIRFdata Version: 1.17.0 Command: /home/biocbuild/bbs-3.23-bioc/R/bin/R CMD build --keep-empty-dirs --no-resave-data NxtIRFdata StartedAt: 2025-11-06 11:33:55 -0500 (Thu, 06 Nov 2025) EndedAt: 2025-11-06 11:34:17 -0500 (Thu, 06 Nov 2025) EllapsedTime: 22.0 seconds RetCode: 0 Status: OK PackageFile: NxtIRFdata_1.17.0.tar.gz PackageFileSize: 317.9 KiB