Package: NxtIRFdata Version: 1.17.0 Maintainer: Alex Chit Hei Wong MaintainerEmail: alexchwong.github at gmail.com git_url: https://git.bioconductor.org/packages/NxtIRFdata git_branch: devel git_last_commit: 5da9a2a git_last_commit_date: 2025-10-29 10:04:32 -0500 (Wed, 29 Oct 2025)