Package: Neve2006 Version: 0.49.0 Command: /home/biocbuild/bbs-3.23-bioc/R/bin/R CMD INSTALL Neve2006 StartedAt: 2025-11-06 10:57:33 -0500 (Thu, 06 Nov 2025) EndedAt: 2025-11-06 10:57:49 -0500 (Thu, 06 Nov 2025) EllapsedTime: 16.2 seconds RetCode: 0 Status: OK