Package: Neve2006 Version: 0.49.0 Command: /home/biocbuild/bbs-3.23-bioc/R/bin/R CMD build --keep-empty-dirs --no-resave-data Neve2006 StartedAt: 2025-11-06 11:33:25 -0500 (Thu, 06 Nov 2025) EndedAt: 2025-11-06 11:33:55 -0500 (Thu, 06 Nov 2025) EllapsedTime: 30.2 seconds RetCode: 0 Status: OK PackageFile: Neve2006_0.49.0.tar.gz PackageFileSize: 67.92 MiB