Package: Neve2006 Version: 0.49.0 Maintainer: VJ Carey MaintainerEmail: stvjc at channing.harvard.edu git_url: https://git.bioconductor.org/packages/Neve2006 git_branch: devel git_last_commit: 1ce99ca git_last_commit_date: 2025-10-29 09:30:58 -0500 (Wed, 29 Oct 2025)