Package: NanoporeRNASeq Version: 1.21.0 Command: /home/biocbuild/bbs-3.23-bioc/R/bin/R CMD INSTALL NanoporeRNASeq StartedAt: 2025-11-11 10:57:04 -0500 (Tue, 11 Nov 2025) EndedAt: 2025-11-11 10:57:12 -0500 (Tue, 11 Nov 2025) EllapsedTime: 8.6 seconds RetCode: 0 Status: OK