Package: NanoporeRNASeq Version: 1.21.0 Command: /home/biocbuild/bbs-3.23-bioc/R/bin/R CMD build --keep-empty-dirs --no-resave-data NanoporeRNASeq StartedAt: 2025-11-11 11:33:22 -0500 (Tue, 11 Nov 2025) EndedAt: 2025-11-11 11:35:24 -0500 (Tue, 11 Nov 2025) EllapsedTime: 121.9 seconds RetCode: 0 Status: OK PackageFile: NanoporeRNASeq_1.21.0.tar.gz PackageFileSize: 232.9 KiB