Package: MouseThymusAgeing Version: 1.19.0 Maintainer: Mike Morgan MaintainerEmail: michael.morgan at abdn.ac.uk git_url: https://git.bioconductor.org/packages/MouseThymusAgeing git_branch: devel git_last_commit: 7a75646 git_last_commit_date: 2025-10-29 10:03:30 -0500 (Wed, 29 Oct 2025)